BEGIN:VCALENDAR
VERSION:2.0
PRODID:-//eventon.com NONSGML v1.0//EN
CALSCALE:GREGORIAN
METHOD:PUBLISH
BEGIN:VEVENT
UID:69eb5dba5873b
DTSTAMP:20260424T121034Z
DTSTART:20260521T190000Z
DTEND:20260521T190000Z
LOCATION:
SUMMARY:Fortbildung: Ausländerrechtliche Folgen strafrechtlicher Verurteilungen
DESCRIPTION:Donnerstag\,  21.05.2026\,  19:00 Uhr\,  Raum 211/212\,  Eine-W
 elt-Haus\,  Schwanthaler Straße 80 Rechtsanwalt Jahn-Rüdiger Albert (Für
 th) &#8211; Ausländerrechtliche Folgen strafrechtlicher Verurteilungen Str
 afverfahren können seit jeher Auswirkung auf das Aufenthaltsrecht von Besc
 huldigten haben\,  insbesondere in Form der Ausweisung. Nach der Rechtsprec
 hung des Bundesverwaltungsgerichts können bereits verhältnismäßig harml
 ose Strafvorwürfe gravierende Auswirkungen auf das Aufenthaltsrecht[..]\nh
 ttps://strafverteidiger-bayern.de/events/fortbildung-auslaenderrechtliche-f
 olgen-strafrechtlicher-verurteilungen/
URL:https://strafverteidiger-bayern.de/events/fortbildung-auslaenderrechtliche-folgen-strafrechtlicher-verurteilungen/
END:VEVENT
END:VCALENDAR