BEGIN:VCALENDAR
VERSION:2.0
PRODID:-//eventon.com NONSGML v1.0//EN
CALSCALE:GREGORIAN
METHOD:PUBLISH
BEGIN:VEVENT
UID:69e73e0513406
DTSTAMP:20260421T090613Z
DTSTART:20240516T170000Z
DTEND:20240516T190000Z
LOCATION:
SUMMARY:Fortbildung: Die Menschenrechtsbeschwerde in Strafsachen
DESCRIPTION:Fortbildung: Die Menschenrechtsbeschwerde in Strafsachen\nhttps
 ://strafverteidiger-bayern.de/events/die-menschenrechtsbeschwerde-in-strafs
 achen/
URL:https://strafverteidiger-bayern.de/events/die-menschenrechtsbeschwerde-in-strafsachen/
END:VEVENT
END:VCALENDAR