BEGIN:VCALENDAR
VERSION:2.0
PRODID:-//eventon.com NONSGML v1.0//EN
CALSCALE:GREGORIAN
METHOD:PUBLISH
BEGIN:VEVENT
UID:69e73809b758d
DTSTAMP:20260421T084041Z
DTSTART:20231208T130000Z
DTEND:20231208T160000Z
LOCATION:
SUMMARY:VERSCHOBEN: Fehlerquellen bei der DNA-Begutachtung | 08.12.2023
DESCRIPTION:Uhrzeit: 14:00 Uhr Ort: EineWeltHaus\,  Schwanthalerstraße 80 
 80336 München Referent: Prof. Dr. Cornelius Courts (Köln)\nhttps://strafv
 erteidiger-bayern.de/events/fehlerquellen-bei-der-dna-begutachtung-08-12-20
 23/
URL:https://strafverteidiger-bayern.de/events/fehlerquellen-bei-der-dna-begutachtung-08-12-2023/
END:VEVENT
END:VCALENDAR