BEGIN:VCALENDAR
VERSION:2.0
PRODID:-//eventon.com NONSGML v1.0//EN
CALSCALE:GREGORIAN
METHOD:PUBLISH
BEGIN:VEVENT
UID:69e74b142c94e
DTSTAMP:20260421T100156Z
DTSTART:20230915T153000Z
DTEND:20230916T140000Z
LOCATION:
SUMMARY:Dreiländerforum Strafverteidigung in Arenenberg (CH) | 15./16. September 2023
DESCRIPTION:Weitere Informationen unter www.forum-strafverteidigung.ch\nhtt
 ps://strafverteidiger-bayern.de/events/save-the-date-dreilaenderforum-straf
 verteidigung-in-arenenberg-ch-15-16-september-2023/
URL:https://strafverteidiger-bayern.de/events/save-the-date-dreilaenderforum-strafverteidigung-in-arenenberg-ch-15-16-september-2023/
END:VEVENT
END:VCALENDAR