BEGIN:VCALENDAR
VERSION:2.0
PRODID:-//eventon.com NONSGML v1.0//EN
CALSCALE:GREGORIAN
METHOD:PUBLISH
BEGIN:VEVENT
UID:69e7381a3bf2d
DTSTAMP:20260421T084058Z
DTSTART:20220519T170000Z
DTEND:20220519T215000Z
LOCATION:
SUMMARY:Strafverteidiger-Stammtisch am 19.05.2022
DESCRIPTION:Weitere Informationen &nbsp;\nhttps://strafverteidiger-bayern.d
 e/events/strafverteidiger-stammtisch-am-19-05-2022/
URL:https://strafverteidiger-bayern.de/events/strafverteidiger-stammtisch-am-19-05-2022/
END:VEVENT
END:VCALENDAR